Workbook

Sheet Бланк заказа
A1: Название товара | B1: Код | C1: Количество товара
B2: =IFERROR(VLOOKUP(A2,'Ассортимент'!$A$2:$B$4282,2,FALSE),"")
B3: =IFERROR(VLOOKUP(A3,'Ассортимент'!$A$2:$B$4282,2,FALSE),"")
B4: =IFERROR(VLOOKUP(A4,'Ассортимент'!$A$2:$B$4282,2,FALSE),"")
B5: =IFERROR(VLOOKUP(A5,'Ассортимент'!$A$2:$B$4282,2,FALSE),"")
B6: =IFERROR(VLOOKUP(A6,'Ассортимент'!$A$2:$B$4282,2,FALSE),"")
B7: =IFERROR(VLOOKUP(A7,'Ассортимент'!$A$2:$B$4282,2,FALSE),"")
B8: =IFERROR(VLOOKUP(A8,'Ассортимент'!$A$2:$B$4282,2,FALSE),"")
B9: =IFERROR(VLOOKUP(A9,'Ассортимент'!$A$2:$B$4282,2,FALSE),"")
B10: =IFERROR(VLOOKUP(A10,'Ассортимент'!$A$2:$B$4282,2,FALSE),"")
B11: =IFERROR(VLOOKUP(A11,'Ассортимент'!$A$2:$B$4282,2,FALSE),"")
B12: =IFERROR(VLOOKUP(A12,'Ассортимент'!$A$2:$B$4282,2,FALSE),"")
B13: =IFERROR(VLOOKUP(A13,'Ассортимент'!$A$2:$B$4282,2,FALSE),"")
... B201: =IFERROR(VLOOKUP(A201,'Ассортимент'!$A$2:$B$4282,2,FALSE),"")

Sheet Ассортимент
A1: Название | B1: Код
A2: OMNIPOR - фикс. пластырь из нетк. материала. 1.25см х 5м | B2: 30030393
A3: OMNIPOR - фикс. пластырь из нетк. материала. 2.5см х 5м | B3: 30030394
A4: Omnistrip - Гипоалл. полоски на опер. швы (стер. по 6шт) 12мм х 101мм №50 | B4: 30033672
A5: Omnistrip - Гипоалл. полоски на опер. швы (стер. по 6шт) 12мм х 101мм №50 | B5: 30033672
A6: Абактерил 1л. дез. ср-во | B6: 200416
A7: Абактерил 5л. дез. ср-во | B7: 20027366
A8: Абактерил-актив 1л. дез. ср-во | B8: 20043552
A9: Абактерил-Актив. 200мл. (спрей. антисептик) | B9: 20083785
A10: Абактерил-Актив. 200мл. (спрей. антисептик) | B10: 20083785
A11: Абактерил-актив 200мл спрей дез. ср-во | B11: 20083785
A12: Абактерил-актив 500мл дез. ср-во | B12: 20043555
A13: Абактерил-актив 5л. дез. ср-во | B13: 20043554
... A4282: Ящик для лекарств Массимо 40.4х20.8х23.8мм | B4282: 30012176
